BEGIN:VCALENDAR
VERSION:2.0
PRODID:gruene-neuwied.de
METHOD:PUBLISH
BEGIN:VTIMEZONE
TZID:Europe/Berlin
X-LIC-LOCATION:Europe/Berlin
BEGIN:DAYLIGHT
TZOFFSETFROM:+0100
TZOFFSETTO:+0200
TZNAME:CEST
DTSTART:19700329T020000
RRULE:FREQ=YEARLY;INTERVAL=1;BYDAY=-1SU;BYMONTH=3
END:DAYLIGHT
BEGIN:STANDARD
TZOFFSETFROM:+0200
TZOFFSETTO:+0100
TZNAME:CET
DTSTART:19701025T030000
RRULE:FREQ=YEARLY;INTERVAL=1;BYDAY=-1SU;BYMONTH=10
END:STANDARD
END:VTIMEZONE
BEGIN:VEVENT
UID:75c0594ef0c44d3a5e56d55bbdecda4f@gruene-neuwied.de
URL;VALUE=URI:https://gruene-neuwied.de/termine/angeschnitten-vorsorge-ab
 er-wie/
LOCATION:Bürgerhaus Ockenfels, Auf d. Heide, Ockenfels
SUMMARY:„Angeschnitten“. Vorsorge – aber wie?
DESCRIPTION;ALTREP="data:text/html,%0A%3Cp%3EInformieren%20und%20ins%20Ge
 spr%C3%A4ch%20kommen%20mit%20Ute%20Ernst%2C%20Direktkandidatin%20f%C3%BCr
 %20den%20Wahlkreis%203%20%28Linz%2FRengsdorf%29%20von%20B%C3%9CNDNIS%2090
 %2FDIE%20GR%C3%9CNEN.%3C%2Fp%3E%0A%0A%0A%0A%3Cp%3E%3C%2Fp%3E%0A":Informie
 ren und ins Gespräch kommen mit Ute Ernst\, Direktkandidatin für den Wa
 hlkreis 3 (Linz/Rengsdorf) von BÜNDNIS 90/DIE GRÜNEN.
CLASS:PUBLIC
DTSTART;TZID=Europe/Berlin:20260306T190000
DTEND;TZID=Europe/Berlin:20260306T200000
DTSTAMP:20260423T134121
END:VEVENT
END:VCALENDAR