BEGIN:VCALENDAR
VERSION:2.0
PRODID:gruene-neuwied.de
METHOD:PUBLISH
BEGIN:VTIMEZONE
TZID:Europe/Berlin
X-LIC-LOCATION:Europe/Berlin
BEGIN:DAYLIGHT
TZOFFSETFROM:+0100
TZOFFSETTO:+0200
TZNAME:CEST
DTSTART:19700329T020000
RRULE:FREQ=YEARLY;INTERVAL=1;BYDAY=-1SU;BYMONTH=3
END:DAYLIGHT
BEGIN:STANDARD
TZOFFSETFROM:+0200
TZOFFSETTO:+0100
TZNAME:CET
DTSTART:19701025T030000
RRULE:FREQ=YEARLY;INTERVAL=1;BYDAY=-1SU;BYMONTH=10
END:STANDARD
END:VTIMEZONE
BEGIN:VEVENT
UID:a36890dc4b0193fddd686568eef09034@gruene-neuwied.de
URL;VALUE=URI:https://gruene-neuwied.de/termine/asiatische-hornisse-gefah
 r-fuer-bienen-und-oekosysteme/
LOCATION:Alter Bahnhof Puderbach, Bahnhofstr. 8, 56305 Puderbach
SUMMARY:Asiatische Hornisse – Gefahr für Bienen und Ökosysteme
DESCRIPTION;ALTREP="data:text/html,%0A%3Cp%3E%3Cstrong%3EVortrag%3A%20Asi
 atische%20Hornisse%20%E2%80%93%20Gefahr%20f%C3%BCr%20Bienen%20und%20%C3%9
 6kosysteme%3C%2Fstrong%3E%3C%2Fp%3E%0A%0A%0A%0A%3Cp%3EDie%20Asiatische%20
 Hornisse%20breitet%20sich%20aus%20%E2%80%93%20doch%20was%20bedeutet%20das
 %20f%C3%BCr%20unsere%20heimischen%20Bienen%20und%20die%20Natur%3F%3Cbr%3E
 Experte%20%3Cstrong%3EKlaus%20Maresch%3C%2Fstrong%3E%20gibt%20spannende%2
 0Einblicke%2C%20ordnet%20die%20Lage%20ein%20und%20zeigt%2C%20was%20wir%20
 tun%20k%C3%B6nnen.%3C%2Fp%3E%0A%0A%0A%0A%3Cp%3E%3C%2Fp%3E%0A":Vortrag: As
 iatische Hornisse – Gefahr für Bienen und Ökosysteme\n\nDie Asiatisch
 e Hornisse breitet sich aus – doch was bedeutet das für unsere heimisc
 hen Bienen und die Natur?Experte Klaus Maresch gibt spannende Einblicke\,
  ordnet die Lage ein und zeigt\, was wir tun können.
CLASS:PUBLIC
DTSTART;TZID=Europe/Berlin:20260206T190000
DTEND;TZID=Europe/Berlin:20260206T200000
DTSTAMP:20260423T134351
END:VEVENT
END:VCALENDAR