BEGIN:VCALENDAR
VERSION:2.0
PRODID:gruene-neuwied.de
METHOD:PUBLISH
BEGIN:VTIMEZONE
TZID:Europe/Berlin
X-LIC-LOCATION:Europe/Berlin
BEGIN:DAYLIGHT
TZOFFSETFROM:+0100
TZOFFSETTO:+0200
TZNAME:CEST
DTSTART:19700329T020000
RRULE:FREQ=YEARLY;INTERVAL=1;BYDAY=-1SU;BYMONTH=3
END:DAYLIGHT
BEGIN:STANDARD
TZOFFSETFROM:+0200
TZOFFSETTO:+0100
TZNAME:CET
DTSTART:19701025T030000
RRULE:FREQ=YEARLY;INTERVAL=1;BYDAY=-1SU;BYMONTH=10
END:STANDARD
END:VTIMEZONE
BEGIN:VEVENT
UID:a45601a61cc2ec254f6ae300150f4cd5@gruene-neuwied.de
URL;VALUE=URI:https://gruene-neuwied.de/termine/gleichberechtigung-ist-ke
 ine-selbstverstaendlichkeit/
LOCATION:Obere Burg, Schulstraße 7A, Rheinbreitbach
SUMMARY:Gleichberechtigung ist keine Selbstverständlichkeit
DESCRIPTION;ALTREP="data:text/html,%0A%3Cp%3EHart%20erk%C3%A4mpfte%20Rech
 te%20geraten%20unter%20Druck%2C%20veraltete%20Rollenbilder%20kehren%20zur
 %C3%BCck.%3C%2Fp%3E%0A%0A%0A%0A%3Cp%3EWir%20schauen%20nicht%20weg%2C%20so
 ndern%20reden%20dar%C3%BCber%3A%3C%2Fp%3E%0A%0A%0A%0A%3Cp%3EWie%20sichern
 %20wir%20Freiheit%20und%20Vielfalt%20in%20unserer%20Gesellschaft%3F%20%3C
 %2Fp%3E%0A%0A%0A%0A%3Cp%3EKommen%20Sie%20uum%20Austausch%20in%20die%20Obe
 re%20Burg.%3C%2Fp%3E%0A%0A%0A%0A%3Cp%3EMit%20%3Cstrong%3EMisbah%20Khan%3C
 %2Fstrong%3E%20MdB%20und%20%3Cstrong%3EUte%20Ernst%3C%2Fstrong%3E%2C%20Di
 rektkandidatin%20f%C3%BCr%20den%20Landtag%2C%20Wahlkreis%203%20%28Linz%2F
 Rengsdorf%29%20von%20B%C3%9CNDNIS%2090%2FDIE%20GR%C3%9CNEN.%3C%2Fp%3E%0A"
 :Hart erkämpfte Rechte geraten unter Druck\, veraltete Rollenbilder kehr
 en zurück.\n\nWir schauen nicht weg\, sondern reden darüber:\n\nWie sic
 hern wir Freiheit und Vielfalt in unserer Gesellschaft?\n\nKommen Sie uum
  Austausch in die Obere Burg.\n\nMit Misbah Khan MdB und Ute Ernst\, Dire
 ktkandidatin für den Landtag\, Wahlkreis 3 (Linz/Rengsdorf) von BÜNDNIS
  90/DIE GRÜNEN.
CLASS:PUBLIC
DTSTART;TZID=Europe/Berlin:20260310T190000
DTEND;TZID=Europe/Berlin:20260310T210000
DTSTAMP:20260423T134324
END:VEVENT
END:VCALENDAR