BEGIN:VCALENDAR
VERSION:2.0
PRODID:gruene-neuwied.de
METHOD:PUBLISH
BEGIN:VTIMEZONE
TZID:Europe/Berlin
X-LIC-LOCATION:Europe/Berlin
BEGIN:DAYLIGHT
TZOFFSETFROM:+0100
TZOFFSETTO:+0200
TZNAME:CEST
DTSTART:19700329T020000
RRULE:FREQ=YEARLY;INTERVAL=1;BYDAY=-1SU;BYMONTH=3
END:DAYLIGHT
BEGIN:STANDARD
TZOFFSETFROM:+0200
TZOFFSETTO:+0100
TZNAME:CET
DTSTART:19701025T030000
RRULE:FREQ=YEARLY;INTERVAL=1;BYDAY=-1SU;BYMONTH=10
END:STANDARD
END:VTIMEZONE
BEGIN:VEVENT
UID:a06a5de4321df1d2c28df44db743ff1e@gruene-neuwied.de
URL;VALUE=URI:https://gruene-neuwied.de/termine/ihr-regelt-das-nicht-mit-
 uns/
LOCATION:Sportplatz Puderbach, Zum Sportplatz 1, 56305 Puderbach
SUMMARY:Ihr regelt das? Nicht mit uns!
DESCRIPTION;ALTREP="data:text/html,%0A%3Cp%3E%3Cstrong%3EMahnwache%20gege
 n%20die%20AfD-Veranstaltung%3C%2Fstrong%3E%3Cbr%3E%3Cbr%3EPuderbach%3A%20
 Bunt%20statt%20Braun%21%20%F0%9F%8C%BB%3Cbr%3EWir%20setzen%20ein%20starke
 s%20Zeichen%20f%C3%BCr%20Demokratie%2C%20Vielfalt%20und%20Zusammenhalt.%2
 0Kommt%20zur%20Mahnwache%20und%20zeigt%20gemeinsam%20mit%20uns%20Gesicht%
 21%3C%2Fp%3E%0A%0A%0A%0A%3Cp%3E%3C%2Fp%3E%0A":Mahnwache gegen die AfD-Ver
 anstaltungPuderbach: Bunt statt Braun! 🌻Wir setzen ein starkes Zeichen
  für Demokratie\, Vielfalt und Zusammenhalt. Kommt zur Mahnwache und zei
 gt gemeinsam mit uns Gesicht!
CLASS:PUBLIC
DTSTART;TZID=Europe/Berlin:20260204T180000
DTEND;TZID=Europe/Berlin:20260204T200000
DTSTAMP:20260423T134101
END:VEVENT
END:VCALENDAR