BEGIN:VCALENDAR
VERSION:2.0
PRODID:gruene-neuwied.de
METHOD:PUBLISH
BEGIN:VTIMEZONE
TZID:Europe/Berlin
X-LIC-LOCATION:Europe/Berlin
BEGIN:DAYLIGHT
TZOFFSETFROM:+0100
TZOFFSETTO:+0200
TZNAME:CEST
DTSTART:19700329T020000
RRULE:FREQ=YEARLY;INTERVAL=1;BYDAY=-1SU;BYMONTH=3
END:DAYLIGHT
BEGIN:STANDARD
TZOFFSETFROM:+0200
TZOFFSETTO:+0100
TZNAME:CET
DTSTART:19701025T030000
RRULE:FREQ=YEARLY;INTERVAL=1;BYDAY=-1SU;BYMONTH=10
END:STANDARD
END:VTIMEZONE
BEGIN:VEVENT
UID:6f5813e43542012631989208b633c111@gruene-neuwied.de
URL;VALUE=URI:https://gruene-neuwied.de/termine/klausur-zum-landeswahlpro
 gramm-rlp-2026/
LOCATION:Casa WoGe (ehemals Hotel Wiedfriede), Arnsau 0, Dattenberg
SUMMARY:Klausur zum Landeswahlprogramm RLP 2026
DESCRIPTION;ALTREP="data:text/html,%0A%3Cp%3ELiebe%20Freundinnen%20und%20
 Freunde%2C%3C%2Fp%3E%0A%0A%0A%0A%3Cp%3Eim%20Namen%20des%20Kreisvorstands%
 20laden%20wir%20Euch%20gerne%20zu%20einer%20Klausur%20des%20Kreisverbande
 s%20ein.%3C%2Fp%3E%0A%0A%0A%0A%3Cp%20class%3D%22has-text-align-center%22%
 3E%3Cstrong%3ESamstag%2C%2026.04.2025%20%E2%80%93%2010%3A00%20Uhr%20%3C%2
 Fstrong%3E%3C%2Fp%3E%0A%0A%0A%0A%3Cp%20class%3D%22has-text-align-left%22%
 3EAb%2010%3A00%20Uhr%20findet%20ein%20gemeinsamer%20Brunch%20statt%2C%20u
 m%2011%3A00%20startet%20die%20Klausur.%3C%2Fp%3E%0A%0A%0A%0A%3Cp%20class%
 3D%22has-text-align-center%22%3E%3Cstrong%3EBei%20Angela%20Ante%3Cbr%3ECa
 sa%20WoGe%20%28ehemals%20Hotel%20Wiedfriede%29%3Cbr%3EArnsau%200%3Cbr%3E5
 3547%20Dattenberg%3C%2Fstrong%3E%3C%2Fp%3E%0A%0A%0A%0A%3Cp%3EWir%20m%C3%B
 6chten%20als%20KV%20Neuwied%20an%20den%20Inhalten%20des%20Landeswahlprogr
 amms%20mitarbeiten.%20Hier%20findet%20Ihr%20die%3Cbr%3EVorgaben%20f%C3%BC
 r%20die%20Mitarbeit%20und%20die%20Themenfelder%2C%20mit%20denen%20wir%20u
 ns%20besch%C3%A4ftigen%20wollen%3A%3Cbr%3E%3Ca%20href%3D%22https%3A%2F%2F
 gruene-rlp.de%2F2025%2F03%2F15%2Fwerde-teil-des-wandels-gestalte-unser-pr
 ogramm%2F%22%20target%3D%22_blank%22%20rel%3D%22noreferrer%20noopener%22%
 3Ehttps%3A%2F%2Fgruene-rlp.de%2F2025%2F03%2F15%2Fwerde-teil-des-wandels-g
 estalte-unser-programm%2F%3C%2Fa%3E%3C%2Fp%3E%0A%0A%0A%0A%3Cp%3EWir%20wer
 den%20die%20Themenarbeit%20zum%20Anlass%20nehmen%2C%20unsere%20Arbeitskre
 ise%3C%2Fp%3E%0A%0A%0A%0A%3Cul%20class%3D%22wp-block-list%22%3E%0A%3Cli%3
 ESoziales%3C%2Fli%3E%0A%0A%0A%0A%3Cli%3EKlima%2C%20Energie%20und%20Umwelt
 %3C%2Fli%3E%0A%0A%0A%0A%3Cli%3EDemokratie%20und%20Vielfalt%3C%2Fli%3E%0A%
 0A%0A%0A%3Cli%3ETierschutz%3C%2Fli%3E%0A%0A%0A%0A%3Cli%3EKultur%3C%2Fli%3
 E%0A%3C%2Ful%3E%0A%0A%0A%0A%3Cp%3Ewieder%20zu%20beleben%20und%20w%C3%BCrd
 en%20uns%20auch%20deshalb%20%C3%BCber%20eine%20rege%20Teilnahme%20freuen%
 21%3Cbr%3EBitte%20tragt%20in%20die%20Termite%20ein%20ob%20ihr%20teilnehme
 n%20k%C3%B6nnt%2C%20das%20hilft%20uns%20zur%20Planung%20des%20Brunch%3A%3
 Cbr%3E%3Ca%20href%3D%22https%3A%2F%2Ftermite.gruene.de%2Finvite%2FtmRf84Y
 wRaFf%22%20target%3D%22_blank%22%20rel%3D%22noreferrer%20noopener%22%3Eht
 tps%3A%2F%2Ftermite.gruene.de%2Finvite%2FtmRf84YwRaFf%3C%2Fa%3E%3C%2Fp%3E
 %0A%0A%0A%0A%3Cp%3EHerzliche%20Gr%C3%BC%C3%9Fe%3Cbr%3EEuer%20Kreisvorstan
 d%3C%2Fp%3E%0A":Liebe Freundinnen und Freunde\,\n\nim Namen des Kreisvors
 tands laden wir Euch gerne zu einer Klausur des Kreisverbandes ein.\n\nSa
 mstag\, 26.04.2025 – 10:00 Uhr\n\nAb 10:00 Uhr findet ein gemeinsamer B
 runch statt\, um 11:00 startet die Klausur.\n\nBei Angela AnteCasa WoGe (
 ehemals Hotel Wiedfriede)Arnsau 053547 Dattenberg\n\nWir möchten als KV 
 Neuwied an den Inhalten des Landeswahlprogramms mitarbeiten. Hier findet 
 Ihr dieVorgaben für die Mitarbeit und die Themenfelder\, mit denen wir u
 ns beschäftigen wollen:https://gruene-rlp.de/2025/03/15/werde-teil-des-w
 andels-gestalte-unser-programm/\n\nWir werden die Themenarbeit zum Anlass
  nehmen\, unsere Arbeitskreise\n\nSoziales\n\nKlima\, Energie und Umwelt\
 n\nDemokratie und Vielfalt\n\nTierschutz\n\nKultur\n\nwieder zu beleben u
 nd würden uns auch deshalb über eine rege Teilnahme freuen!Bitte tragt 
 in die Termite ein ob ihr teilnehmen könnt\, das hilft uns zur Planung d
 es Brunch:https://termite.gruene.de/invite/tmRf84YwRaFf\n\nHerzliche Grü
 ßeEuer Kreisvorstand
CLASS:PUBLIC
DTSTART;TZID=Europe/Berlin:20250426T100000
DTEND;TZID=Europe/Berlin:20250426T110000
DTSTAMP:20260423T134152
END:VEVENT
END:VCALENDAR