BEGIN:VCALENDAR
VERSION:2.0
PRODID:gruene-neuwied.de
METHOD:PUBLISH
BEGIN:VTIMEZONE
TZID:Europe/Berlin
X-LIC-LOCATION:Europe/Berlin
BEGIN:DAYLIGHT
TZOFFSETFROM:+0100
TZOFFSETTO:+0200
TZNAME:CEST
DTSTART:19700329T020000
RRULE:FREQ=YEARLY;INTERVAL=1;BYDAY=-1SU;BYMONTH=3
END:DAYLIGHT
BEGIN:STANDARD
TZOFFSETFROM:+0200
TZOFFSETTO:+0100
TZNAME:CET
DTSTART:19701025T030000
RRULE:FREQ=YEARLY;INTERVAL=1;BYDAY=-1SU;BYMONTH=10
END:STANDARD
END:VTIMEZONE
BEGIN:VEVENT
UID:0059ccf98b4238eef5c7b5587cea8cef@gruene-neuwied.de
URL;VALUE=URI:https://gruene-neuwied.de/termine/miteinander-fuer-solidari
 taet-und-demokratie/
LOCATION:Wiedparkhalle, Neustadt/Wied
SUMMARY:Miteinander – Für Solidarität und Demokratie
DESCRIPTION;ALTREP="data:text/html,%0A%3Cp%3EDemo%20gegen%20die%20AfD%20%
 3C%2Fp%3E%0A":Demo gegen die AfD
CLASS:PUBLIC
DTSTART;TZID=Europe/Berlin:20260307T170000
DTEND;TZID=Europe/Berlin:20260307T180000
DTSTAMP:20260423T140428
END:VEVENT
END:VCALENDAR