BEGIN:VCALENDAR
VERSION:2.0
PRODID:gruene-neuwied.de
METHOD:PUBLISH
BEGIN:VTIMEZONE
TZID:Europe/Berlin
X-LIC-LOCATION:Europe/Berlin
BEGIN:DAYLIGHT
TZOFFSETFROM:+0100
TZOFFSETTO:+0200
TZNAME:CEST
DTSTART:19700329T020000
RRULE:FREQ=YEARLY;INTERVAL=1;BYDAY=-1SU;BYMONTH=3
END:DAYLIGHT
BEGIN:STANDARD
TZOFFSETFROM:+0200
TZOFFSETTO:+0100
TZNAME:CET
DTSTART:19701025T030000
RRULE:FREQ=YEARLY;INTERVAL=1;BYDAY=-1SU;BYMONTH=10
END:STANDARD
END:VTIMEZONE
BEGIN:VEVENT
UID:78c5fca06e816f9db56f7254721c75cd@gruene-neuwied.de
URL;VALUE=URI:https://gruene-neuwied.de/termine/offene-gespraechsrunde-we
 r-versorgt-uns-morgen/
LOCATION:Kapelle in der Seniorenresidenz St. Antonius, Am Konvikt 6-8, Li
 nz am Rhein
SUMMARY:Offene Gesprächsrunde: Wer versorgt uns morgen?
DESCRIPTION;ALTREP="data:text/html,%0A%3Cp%3EGesundheit%20geht%20uns%20al
 le%20an.%20%3C%2Fp%3E%0A%0A%0A%0A%3Cp%3EDoch%20wie%20sicher%20ist%20unser
 e%20Versorgung%20eigentlich%20noch%3F%3C%2Fp%3E%0A%0A%0A%0A%3Cp%3EFinden%
 20wir%20noch%20zeitnah%20einen%20Termin%20beim%20Facharzt%20und%20bleibt%
 20die%20Apotheke%20vor%20Ort%20erhalten%3F%3C%2Fp%3E%0A%0A%0A%0A%3Cp%3EWi
 e%20sichern%20wir%20die%20Pflege%20und%20Versorgung%20im%20Alter%3F%3C%2F
 p%3E%0A%0A%0A%0A%3Cp%3EDiskutieren%20Sie%20mit%20%3Cstrong%3EUte%20Ernst%
 3C%2Fstrong%3E%2C%20Landtagsdirektkandidatin%20f%C3%BCr%20den%20Wahlkreis
 %203%20%28Linz%2FRengsdorf%29%20und%20%3Cstrong%3EProf.%20Dr.%20Armin%20G
 rau%20%3C%2Fstrong%3EMdB.%3C%2Fp%3E%0A":Gesundheit geht uns alle an.\n\nD
 och wie sicher ist unsere Versorgung eigentlich noch?\n\nFinden wir noch 
 zeitnah einen Termin beim Facharzt und bleibt die Apotheke vor Ort erhalt
 en?\n\nWie sichern wir die Pflege und Versorgung im Alter?\n\nDiskutieren
  Sie mit Ute Ernst\, Landtagsdirektkandidatin für den Wahlkreis 3 (Linz/
 Rengsdorf) und Prof. Dr. Armin Grau MdB.
CLASS:PUBLIC
DTSTART;TZID=Europe/Berlin:20260309T190000
DTEND;TZID=Europe/Berlin:20260309T210000
DTSTAMP:20260423T134121
END:VEVENT
END:VCALENDAR