BEGIN:VCALENDAR
VERSION:2.0
PRODID:gruene-neuwied.de
METHOD:PUBLISH
BEGIN:VTIMEZONE
TZID:Europe/Berlin
X-LIC-LOCATION:Europe/Berlin
BEGIN:DAYLIGHT
TZOFFSETFROM:+0100
TZOFFSETTO:+0200
TZNAME:CEST
DTSTART:19700329T020000
RRULE:FREQ=YEARLY;INTERVAL=1;BYDAY=-1SU;BYMONTH=3
END:DAYLIGHT
BEGIN:STANDARD
TZOFFSETFROM:+0200
TZOFFSETTO:+0100
TZNAME:CET
DTSTART:19701025T030000
RRULE:FREQ=YEARLY;INTERVAL=1;BYDAY=-1SU;BYMONTH=10
END:STANDARD
END:VTIMEZONE
BEGIN:VEVENT
UID:a29b8c25ed2682c927d6f4be84c6d60b@gruene-neuwied.de
URL;VALUE=URI:https://gruene-neuwied.de/termine/politische-weinprobe/
LOCATION:Weingut Hubertushof, Hubertusburg 1, Leutesdorf
SUMMARY:Politische Weinprobe
DESCRIPTION;ALTREP="data:text/html,%0A%3Cp%3EWeitere%20Infos%20%3Ca%20hre
 f%3D%22https%3A%2F%2Fgruene-neuwied.de%2F2026%2F03%2F04%2Feinladung-zur-p
 olitischen-weinprobe-am-mittwoch-den-11-maerz-2026-um-1800-uhrim-weingut-
 hubertushof-leutesdorf-mit-andreas-audretsch-mdb-julian-joswig-mdb-und-ut
 e-ernst%2F%22%3Ehier%3C%2Fa%3E.%3C%2Fp%3E%0A%0A%0A%0A%3Cp%3E%3C%2Fp%3E%0A
 ":Weitere Infos hier.
CLASS:PUBLIC
DTSTART;TZID=Europe/Berlin:20260311T180000
DTEND;TZID=Europe/Berlin:20260311T210000
DTSTAMP:20260423T134152
END:VEVENT
END:VCALENDAR