BEGIN:VCALENDAR
VERSION:2.0
PRODID:gruene-neuwied.de
METHOD:PUBLISH
BEGIN:VTIMEZONE
TZID:Europe/Berlin
X-LIC-LOCATION:Europe/Berlin
BEGIN:DAYLIGHT
TZOFFSETFROM:+0100
TZOFFSETTO:+0200
TZNAME:CEST
DTSTART:19700329T020000
RRULE:FREQ=YEARLY;INTERVAL=1;BYDAY=-1SU;BYMONTH=3
END:DAYLIGHT
BEGIN:STANDARD
TZOFFSETFROM:+0200
TZOFFSETTO:+0100
TZNAME:CET
DTSTART:19701025T030000
RRULE:FREQ=YEARLY;INTERVAL=1;BYDAY=-1SU;BYMONTH=10
END:STANDARD
END:VTIMEZONE
BEGIN:VEVENT
UID:9f846c910af86e52d5819641acf81763@gruene-neuwied.de
URL;VALUE=URI:https://gruene-neuwied.de/termine/sommerfest-des-kreisverba
 nds-westerwald/
LOCATION:Kunst- und Kulturzentrum b05, Im Stadtwald 2, 56410 Montabaur
SUMMARY:Sommerfest des Kreisverbands Westerwald
DESCRIPTION;ALTREP="data:text/html,":
CLASS:PUBLIC
DTSTART;TZID=Europe/Berlin:20250823T140000
DTEND;TZID=Europe/Berlin:20250823T183000
DTSTAMP:20260423T134243
END:VEVENT
END:VCALENDAR