BEGIN:VCALENDAR
VERSION:2.0
PRODID:gruene-neuwied.de
METHOD:PUBLISH
BEGIN:VTIMEZONE
TZID:Europe/Berlin
X-LIC-LOCATION:Europe/Berlin
BEGIN:DAYLIGHT
TZOFFSETFROM:+0100
TZOFFSETTO:+0200
TZNAME:CEST
DTSTART:19700329T020000
RRULE:FREQ=YEARLY;INTERVAL=1;BYDAY=-1SU;BYMONTH=3
END:DAYLIGHT
BEGIN:STANDARD
TZOFFSETFROM:+0200
TZOFFSETTO:+0100
TZNAME:CET
DTSTART:19701025T030000
RRULE:FREQ=YEARLY;INTERVAL=1;BYDAY=-1SU;BYMONTH=10
END:STANDARD
END:VTIMEZONE
BEGIN:VEVENT
UID:b0ae92d09d3f026a13d56e047c0dd974@gruene-neuwied.de
URL;VALUE=URI:https://gruene-neuwied.de/termine/sommerfest-gruene-asbache
 r-land/
LOCATION:
SUMMARY:Sommerfest GRÜNE Asbacher Land
DESCRIPTION;ALTREP="data:text/html,%0A%3Cp%3EOrt%20und%20Zeit%20folgen%3C
 %2Fp%3E%0A%0A%0A%0A%3Cp%3E%3C%2Fp%3E%0A":Ort und Zeit folgen
CLASS:PUBLIC
DTSTART;TZID=Europe/Berlin:20250823T000000
DTEND;TZID=Europe/Berlin:20250823T010000
DTSTAMP:20260423T134259
END:VEVENT
END:VCALENDAR